BEGIN:VCALENDAR
VERSION:2.0
PRODID:-//ChamberMaster//Event Calendar 2.0//EN
METHOD:PUBLISH
X-PUBLISHED-TTL:P1H
REFRESH-INTERVAL:P1H
CALSCALE:GREGORIAN
BEGIN:VTIMEZONE
TZID:America/Los_Angeles
BEGIN:DAYLIGHT
RRULE:FREQ=YEARLY;BYMONTH=3;BYDAY=2SU
DTSTART:20070101T000000
TZOFFSETFROM:-0800
TZOFFSETTO:-0700
TZNAME:Pacific Daylight Time
END:DAYLIGHT
BEGIN:STANDARD
RRULE:FREQ=YEARLY;BYMONTH=11;BYDAY=1SU
DTSTART:20070101T000000
TZOFFSETFROM:-0700
TZOFFSETTO:-0800
TZNAME:Pacific Standard Time
END:STANDARD
END:VTIMEZONE
BEGIN:VEVENT
DTSTART;TZID=America/Los_Angeles:20260630T060000
DTEND;TZID=America/Los_Angeles:20260630T080000
X-MICROSOFT-CDO-ALLDAYEVENT:FALSE
SUMMARY:Film Initiative Business Mixer June 2026
DESCRIPTION:Join us for our monthly GABA Film Initiative Business Mixer\, where international professionals from across film and entertainment come together for an evening of connection\, conversation\, and collaboration.What to expect:\n✔️ Meet with film and entertainment professionals shaping LA's international film community\n✔️ Exchange ideas\, stories\, and insights that can lead to meaningful collaborations\n✔️ Build connections and discover opportunities Whether you work behind the scenes\, behind the camera\, or anywhere in between\, this is your space to connect with peers who share your passion for film and storytelling.We look forward to welcoming you for an inspiring evening with a creative and globally minded community.Open to Film Initiative Members & Film Initiative Basic Registrants only. \nNot part of the Film Initiative\, yet? We'd love to welcome you - simply submit your membership application to join our community.
X-ALT-DESC;FMTTYPE=text/html:<!DOCTYPE html><html><head><title></title></head><body aria-disabled="false"><p data-end="206" data-start="0"><span style="font-family: Arial\, Helvetica\, sans-serif\; font-size: 18px\;">Join us for our monthly GABA Film Initiative Business Mixer\, where international professionals from across film and entertainment come together for an evening of connection\, conversation\, and collaboration.</span></p><p data-end="496" data-start="208"><span style="font-size: 18px\;"><span style="font-family: Arial\,Helvetica\,sans-serif\;">What to expect:<br data-start="223" data-end="226">✔️ Meet with film and entertainment professionals shaping LA&rsquo\;s international film community<br data-start="328" data-end="331">✔️ Exchange ideas\, stories\, and insights that can lead to meaningful collaborations<br data-start="414" data-end="417">✔️ Build connections and discover opportunities&nbsp\;</span></span></p><p data-end="667" data-start="498"><span style="font-size: 18px\;"><span style="font-family: Arial\,Helvetica\,sans-serif\;">Whether you work behind the scenes\, behind the camera\, or anywhere in between\, this is your space to connect with peers who share your passion for film and storytelling.</span></span></p><p data-end="773" data-is-last-node="" data-is-only-node="" data-start="669"><span style="font-family: Arial\, Helvetica\, sans-serif\; font-size: 18px\;">We look forward to welcoming you for an inspiring evening with a creative and globally minded community.</span></p><p dir="ltr" style="line-height: 1.38\; margin-top: 0pt\; margin-bottom: 0pt\;"><span style="font-size: 18px\;"><span style="font-family: Arial\,Helvetica\,sans-serif\;"><span style="font-variant-ligatures: normal\; font-variant-alternates: normal\; font-variant-numeric: normal\; font-variant-east-asian: normal\; font-variant-position: normal\; vertical-align: baseline\; white-space: pre-wrap\;">Open to Film Initiative Members &amp\; Film Initiative Basic Registrants only. <br>Not part of the Film Initiative\, yet?&nbsp\;</span></span></span><span style="font-family: Arial\, Helvetica\, sans-serif\; font-size: 18px\;">We&rsquo\;d love to welcome you - simply <span style="color: rgb(41\, 105\, 176)\;"><a fr-original-style="" href="https://gaba-network.org/socal/membership/film-initiative/" rel="noopener noreferrer" style="-webkit-user-select: auto\; color: inherit\;" target="_blank">submit your membership application</a></span> to join our community.</span></p></body></html>
LOCATION:345 N La Brea Ave Los Angeles CA 90036
UID:e.2620.1451246
SEQUENCE:3
DTSTAMP:20260424T233007Z
URL:https://members.gaba-network.org/norcal-events/Details/film-initiative-business-mixer-june-2026-1718975?sourceTypeId=Hub
END:VEVENT
END:VCALENDAR
