BEGIN:VCALENDAR
VERSION:2.0
PRODID:-//ChamberMaster//Event Calendar 2.0//EN
METHOD:PUBLISH
X-PUBLISHED-TTL:P1H
REFRESH-INTERVAL:P1H
CALSCALE:GREGORIAN
BEGIN:VTIMEZONE
TZID:America/Los_Angeles
BEGIN:DAYLIGHT
RRULE:FREQ=YEARLY;BYMONTH=3;BYDAY=2SU
DTSTART:20070101T000000
TZOFFSETFROM:-0800
TZOFFSETTO:-0700
TZNAME:Pacific Daylight Time
END:DAYLIGHT
BEGIN:STANDARD
RRULE:FREQ=YEARLY;BYMONTH=11;BYDAY=1SU
DTSTART:20070101T000000
TZOFFSETFROM:-0700
TZOFFSETTO:-0800
TZNAME:Pacific Standard Time
END:STANDARD
END:VTIMEZONE
BEGIN:VEVENT
DTSTART;TZID=America/Los_Angeles:20260618T180000
DTEND;TZID=America/Los_Angeles:20260618T203000
X-MICROSOFT-CDO-ALLDAYEVENT:FALSE
SUMMARY:OC Business Mixer June at Larsen - Hotel Laguna
DESCRIPTION:Experience the energy of an early summer evening at our Business Mixer at Larsen at Hotel Laguna. Enjoy breathtaking 180-degree ocean views from the outdoor patio reserved exclusively for GABA\, while sampling a curated selection of California wines\, craft cocktails\, and delicious West Coast appetizers.Larsen at Hotel Laguna offers a daily happy hour from 4:30 PM to 7:00 PM\, featuring $12 cocktails\, wine\, and specially priced bites in the bar\, lounge\, and patio perfect for a relaxed and stylish networking setting.Beyond the stunning ambiance\, this mixer is all about meaningful connections. Join fellow professionals from the German-American community to exchange ideas\, expand your network\, and build lasting relationships.We look forward to seeing you at Larsen!
X-ALT-DESC;FMTTYPE=text/html:<!DOCTYPE html><html><head><title></title></head><body aria-disabled="false"><p data-end="303" data-start="0"><span style="font-family: Arial\, Helvetica\, sans-serif\; font-size: 18px\;">Experience the energy of an early summer evening at our Business Mixer at Larsen at Hotel Laguna. Enjoy breathtaking 180-degree ocean views from the outdoor patio reserved exclusively for GABA\, while sampling a curated selection of California wines\, craft cocktails\, and delicious West Coast appetizers.</span></p><p data-end="520" data-start="305"><span style="font-size: 18px\;"><span style="font-family: Arial\,Helvetica\,sans-serif\;">Larsen at Hotel Laguna offers a daily happy hour from 4:30 PM to 7:00 PM\, featuring $12 cocktails\, wine\, and specially priced bites in the bar\, lounge\, and patio&mdash\;perfect for a relaxed and stylish networking setting.</span></span></p><p data-end="733" data-start="522"><span style="font-size: 18px\;"><span style="font-family: Arial\,Helvetica\,sans-serif\;">Beyond the stunning ambiance\, this mixer is all about meaningful connections. Join fellow professionals from the German-American community to exchange ideas\, expand your network\, and build lasting relationships.</span></span></p><p data-end="775" data-start="735"><span style="font-size: 18px\;"><span style="font-family: Arial\,Helvetica\,sans-serif\;">We look forward to seeing you at Larsen!</span></span></p><p data-end="1011" data-is-last-node="" data-is-only-node="" data-start="777"><br></p><p style='margin: 0in\; font-family: "Times New Roman"\, serif\;'><br></p></body></html>
LOCATION:425 S Coast Hwy Laguna Beach CA 92651
UID:e.2620.1444081
SEQUENCE:3
DTSTAMP:20260424T233756Z
URL:https://members.gaba-network.org/norcal-events/Details/oc-business-mixer-june-at-larsen-hotel-laguna-1710392?sourceTypeId=Hub
END:VEVENT
END:VCALENDAR
